BEGIN:VCALENDAR
VERSION:2.0
PRODID:-//Nathalie Motte Masselink - ECPv6.8.1//NONSGML v1.0//EN
CALSCALE:GREGORIAN
METHOD:PUBLISH
X-WR-CALNAME:Nathalie Motte Masselink
X-ORIGINAL-URL:https://mottemasselink.inouiagency.com
X-WR-CALDESC:Events for Nathalie Motte Masselink
REFRESH-INTERVAL;VALUE=DURATION:PT1H
X-Robots-Tag:noindex
X-PUBLISHED-TTL:PT1H
BEGIN:VTIMEZONE
TZID:Europe/Paris
BEGIN:DAYLIGHT
TZOFFSETFROM:+0100
TZOFFSETTO:+0200
TZNAME:CEST
DTSTART:20250330T010000
END:DAYLIGHT
BEGIN:STANDARD
TZOFFSETFROM:+0200
TZOFFSETTO:+0100
TZNAME:CET
DTSTART:20251026T010000
END:STANDARD
END:VTIMEZONE
BEGIN:VEVENT
DTSTART;TZID=Europe/Paris:20250106T080000
DTEND;TZID=Europe/Paris:20250110T170000
DTSTAMP:20260419T170939
CREATED:20241114T082945Z
LAST-MODIFIED:20241116T185459Z
UID:9600-1736150400-1736528400@mottemasselink.inouiagency.com
SUMMARY:SALON DU DESSIN\, PARIS
DESCRIPTION:SALON DU DESSIN\, PARIS
URL:https://mottemasselink.inouiagency.com/event/salon-du-dessin-paris/
LOCATION:GALERIE MOTTE MASSELINK\, PARIS\, GALERIE MOTTE MASSELINK\, PARIS\, Paris\, France
ATTACH;FMTTYPE=image/png:https://mottemasselink.inouiagency.com/wp-content/uploads/2024/11/Capture-decran-2024-11-14-a-09.28.53.png
END:VEVENT
END:VCALENDAR