BEGIN:VCALENDAR
VERSION:2.0
PRODID:-//Nathalie Motte Masselink - ECPv6.8.1//NONSGML v1.0//EN
CALSCALE:GREGORIAN
METHOD:PUBLISH
X-ORIGINAL-URL:https://mottemasselink.inouiagency.com
X-WR-CALDESC:Events for Nathalie Motte Masselink
REFRESH-INTERVAL;VALUE=DURATION:PT1H
X-Robots-Tag:noindex
X-PUBLISHED-TTL:PT1H
BEGIN:VTIMEZONE
TZID:Europe/Paris
BEGIN:DAYLIGHT
TZOFFSETFROM:+0100
TZOFFSETTO:+0200
TZNAME:CEST
DTSTART:20240331T010000
END:DAYLIGHT
BEGIN:STANDARD
TZOFFSETFROM:+0200
TZOFFSETTO:+0100
TZNAME:CET
DTSTART:20241027T010000
END:STANDARD
END:VTIMEZONE
BEGIN:VEVENT
DTSTART;TZID=Europe/Paris:20241204T080000
DTEND;TZID=Europe/Paris:20241206T170000
DTSTAMP:20260419T184605
CREATED:20241114T081512Z
LAST-MODIFIED:20241114T085937Z
UID:9593-1733299200-1733504400@mottemasselink.inouiagency.com
SUMMARY:REID MASSELINK
DESCRIPTION:CALENDRIER DES EXPOSITIONS ET SALONS D’ART À LA GALERIE
URL:https://mottemasselink.inouiagency.com/event/reid-masselink/
LOCATION:GALERIE MOTTE MASSELINK\, PARIS\, GALERIE MOTTE MASSELINK\, PARIS\, Paris\, France
ATTACH;FMTTYPE=image/jpeg:https://mottemasselink.inouiagency.com/wp-content/uploads/2024/11/salon-du-dessin.jpg
END:VEVENT
END:VCALENDAR