BEGIN:VCALENDAR
VERSION:2.0
PRODID:-//Nathalie Motte Masselink - ECPv6.8.1//NONSGML v1.0//EN
CALSCALE:GREGORIAN
METHOD:PUBLISH
X-ORIGINAL-URL:https://mottemasselink.inouiagency.com
X-WR-CALDESC:Events for Nathalie Motte Masselink
REFRESH-INTERVAL;VALUE=DURATION:PT1H
X-Robots-Tag:noindex
X-PUBLISHED-TTL:PT1H
BEGIN:VTIMEZONE
TZID:Europe/Paris
BEGIN:DAYLIGHT
TZOFFSETFROM:+0100
TZOFFSETTO:+0200
TZNAME:CEST
DTSTART:20230326T010000
END:DAYLIGHT
BEGIN:STANDARD
TZOFFSETFROM:+0200
TZOFFSETTO:+0100
TZNAME:CET
DTSTART:20231029T010000
END:STANDARD
END:VTIMEZONE
BEGIN:VEVENT
DTSTART;VALUE=DATE:20230922
DTEND;VALUE=DATE:20231125
DTSTAMP:20260422T134842
CREATED:20250218T133956Z
LAST-MODIFIED:20250218T133956Z
UID:11188-1695340800-1700870399@mottemasselink.inouiagency.com
SUMMARY:De Guerre et d'Amour\, les dessins de Charles et Joseph Francois Parrocel
DESCRIPTION:
URL:https://mottemasselink.inouiagency.com/event/de-guerre-et-damour-les-dessins-de-charles-et-joseph-francois-parrocel/
LOCATION:Drouot\, Paris\, France
ATTACH;FMTTYPE=image/jpeg:https://mottemasselink.inouiagency.com/wp-content/uploads/2025/02/photo-Annonce-site-3.jpeg
ORGANIZER;CN="Nathalie Motte Masselink":MAILTO:digital.user.tester@gmail.com
END:VEVENT
END:VCALENDAR